BEGIN:VCALENDAR
VERSION:2.0
PRODID:-//CruiseTimes News &amp; Analysis - ECPv6.15.19//NONSGML v1.0//EN
CALSCALE:GREGORIAN
METHOD:PUBLISH
X-WR-CALNAME:CruiseTimes News &amp; Analysis
X-ORIGINAL-URL:https://cruisetimes.net
X-WR-CALDESC:Events for CruiseTimes News &amp; Analysis
REFRESH-INTERVAL;VALUE=DURATION:PT1H
X-Robots-Tag:noindex
X-PUBLISHED-TTL:PT1H
BEGIN:VTIMEZONE
TZID:Europe/Berlin
BEGIN:DAYLIGHT
TZOFFSETFROM:+0100
TZOFFSETTO:+0200
TZNAME:CEST
DTSTART:20250330T010000
END:DAYLIGHT
BEGIN:STANDARD
TZOFFSETFROM:+0200
TZOFFSETTO:+0100
TZNAME:CET
DTSTART:20251026T010000
END:STANDARD
BEGIN:DAYLIGHT
TZOFFSETFROM:+0100
TZOFFSETTO:+0200
TZNAME:CEST
DTSTART:20260329T010000
END:DAYLIGHT
BEGIN:STANDARD
TZOFFSETFROM:+0200
TZOFFSETTO:+0100
TZNAME:CET
DTSTART:20261025T010000
END:STANDARD
BEGIN:DAYLIGHT
TZOFFSETFROM:+0100
TZOFFSETTO:+0200
TZNAME:CEST
DTSTART:20270328T010000
END:DAYLIGHT
BEGIN:STANDARD
TZOFFSETFROM:+0200
TZOFFSETTO:+0100
TZNAME:CET
DTSTART:20271031T010000
END:STANDARD
END:VTIMEZONE
BEGIN:VTIMEZONE
TZID:America/New_York
BEGIN:DAYLIGHT
TZOFFSETFROM:-0500
TZOFFSETTO:-0400
TZNAME:EDT
DTSTART:20250309T070000
END:DAYLIGHT
BEGIN:STANDARD
TZOFFSETFROM:-0400
TZOFFSETTO:-0500
TZNAME:EST
DTSTART:20251102T060000
END:STANDARD
BEGIN:DAYLIGHT
TZOFFSETFROM:-0500
TZOFFSETTO:-0400
TZNAME:EDT
DTSTART:20260308T070000
END:DAYLIGHT
BEGIN:STANDARD
TZOFFSETFROM:-0400
TZOFFSETTO:-0500
TZNAME:EST
DTSTART:20261101T060000
END:STANDARD
BEGIN:DAYLIGHT
TZOFFSETFROM:-0500
TZOFFSETTO:-0400
TZNAME:EDT
DTSTART:20270314T070000
END:DAYLIGHT
BEGIN:STANDARD
TZOFFSETFROM:-0400
TZOFFSETTO:-0500
TZNAME:EST
DTSTART:20271107T060000
END:STANDARD
END:VTIMEZONE
BEGIN:VTIMEZONE
TZID:Europe/Athens
BEGIN:DAYLIGHT
TZOFFSETFROM:+0200
TZOFFSETTO:+0300
TZNAME:EEST
DTSTART:20250330T010000
END:DAYLIGHT
BEGIN:STANDARD
TZOFFSETFROM:+0300
TZOFFSETTO:+0200
TZNAME:EET
DTSTART:20251026T010000
END:STANDARD
BEGIN:DAYLIGHT
TZOFFSETFROM:+0200
TZOFFSETTO:+0300
TZNAME:EEST
DTSTART:20260329T010000
END:DAYLIGHT
BEGIN:STANDARD
TZOFFSETFROM:+0300
TZOFFSETTO:+0200
TZNAME:EET
DTSTART:20261025T010000
END:STANDARD
BEGIN:DAYLIGHT
TZOFFSETFROM:+0200
TZOFFSETTO:+0300
TZNAME:EEST
DTSTART:20270328T010000
END:DAYLIGHT
BEGIN:STANDARD
TZOFFSETFROM:+0300
TZOFFSETTO:+0200
TZNAME:EET
DTSTART:20271031T010000
END:STANDARD
END:VTIMEZONE
BEGIN:VTIMEZONE
TZID:Europe/Dublin
BEGIN:STANDARD
TZOFFSETFROM:+0000
TZOFFSETTO:+0100
TZNAME:IST
DTSTART:20250330T010000
END:STANDARD
BEGIN:DAYLIGHT
TZOFFSETFROM:+0100
TZOFFSETTO:+0000
TZNAME:GMT
DTSTART:20251026T010000
END:DAYLIGHT
BEGIN:STANDARD
TZOFFSETFROM:+0000
TZOFFSETTO:+0100
TZNAME:IST
DTSTART:20260329T010000
END:STANDARD
BEGIN:DAYLIGHT
TZOFFSETFROM:+0100
TZOFFSETTO:+0000
TZNAME:GMT
DTSTART:20261025T010000
END:DAYLIGHT
BEGIN:STANDARD
TZOFFSETFROM:+0000
TZOFFSETTO:+0100
TZNAME:IST
DTSTART:20270328T010000
END:STANDARD
BEGIN:DAYLIGHT
TZOFFSETFROM:+0100
TZOFFSETTO:+0000
TZNAME:GMT
DTSTART:20271031T010000
END:DAYLIGHT
END:VTIMEZONE
BEGIN:VTIMEZONE
TZID:Europe/Amsterdam
BEGIN:DAYLIGHT
TZOFFSETFROM:+0100
TZOFFSETTO:+0200
TZNAME:CEST
DTSTART:20250330T010000
END:DAYLIGHT
BEGIN:STANDARD
TZOFFSETFROM:+0200
TZOFFSETTO:+0100
TZNAME:CET
DTSTART:20251026T010000
END:STANDARD
BEGIN:DAYLIGHT
TZOFFSETFROM:+0100
TZOFFSETTO:+0200
TZNAME:CEST
DTSTART:20260329T010000
END:DAYLIGHT
BEGIN:STANDARD
TZOFFSETFROM:+0200
TZOFFSETTO:+0100
TZNAME:CET
DTSTART:20261025T010000
END:STANDARD
BEGIN:DAYLIGHT
TZOFFSETFROM:+0100
TZOFFSETTO:+0200
TZNAME:CEST
DTSTART:20270328T010000
END:DAYLIGHT
BEGIN:STANDARD
TZOFFSETFROM:+0200
TZOFFSETTO:+0100
TZNAME:CET
DTSTART:20271031T010000
END:STANDARD
END:VTIMEZONE
BEGIN:VTIMEZONE
TZID:Europe/Copenhagen
BEGIN:DAYLIGHT
TZOFFSETFROM:+0100
TZOFFSETTO:+0200
TZNAME:CEST
DTSTART:20250330T010000
END:DAYLIGHT
BEGIN:STANDARD
TZOFFSETFROM:+0200
TZOFFSETTO:+0100
TZNAME:CET
DTSTART:20251026T010000
END:STANDARD
BEGIN:DAYLIGHT
TZOFFSETFROM:+0100
TZOFFSETTO:+0200
TZNAME:CEST
DTSTART:20260329T010000
END:DAYLIGHT
BEGIN:STANDARD
TZOFFSETFROM:+0200
TZOFFSETTO:+0100
TZNAME:CET
DTSTART:20261025T010000
END:STANDARD
BEGIN:DAYLIGHT
TZOFFSETFROM:+0100
TZOFFSETTO:+0200
TZNAME:CEST
DTSTART:20270328T010000
END:DAYLIGHT
BEGIN:STANDARD
TZOFFSETFROM:+0200
TZOFFSETTO:+0100
TZNAME:CET
DTSTART:20271031T010000
END:STANDARD
END:VTIMEZONE
BEGIN:VEVENT
DTSTART;VALUE=DATE:20260901
DTEND;VALUE=DATE:20260905
DTSTAMP:20260422T230816
CREATED:20260408T085234Z
LAST-MODIFIED:20260409T100230Z
UID:14733-1788220800-1788566399@cruisetimes.net
SUMMARY:SMM – The world's leading maritime industry event
DESCRIPTION:With over 2\,200 exhibitors and about 49\,000 total attendees from all over the world\, SMM continues to cement its position as the most important event in the maritime industry calendar. \nThe trade fair offers a perfect stage for gathering insights\, networking\, cementing business deals and contributing to debates with the thought leaders in this sector.
URL:https://cruisetimes.net/event/smm-the-worlds-leading-maritime-industry-event/
LOCATION:Hamburg Messe + Congress\, Vor dem Holstentor\, Hamburg\, 20357\, Germany
ATTACH;FMTTYPE=image/jpeg:https://cruisetimes.net/wp-content/uploads/2026/04/SM26_OB_468x60px_CruiseTimes.jpg
END:VEVENT
BEGIN:VEVENT
DTSTART;VALUE=DATE:20260609
DTEND;VALUE=DATE:20260611
DTSTAMP:20260422T230816
CREATED:20260129T154212Z
LAST-MODIFIED:20260129T162325Z
UID:14145-1780963200-1781135999@cruisetimes.net
SUMMARY:CSI Design Expo Americas
DESCRIPTION:CSI Design Expo Americas: \nCruise Ship Interiors Design Expo Americas (CSI) is the world’s only exhibition and conference exclusively dedicated to connecting the buyers and suppliers of the cruise design industry. \nTaking place on 9 – 10 June 2026 at the Miami Beach Convention Center\, CSI will bring together leading cruise lines and shipyards to meet with exhibiting designers\, architects\, outfitters\, and interior suppliers from across cruise interior design and guest experience. \nThe two-day event provides attendees with the opportunity to discover the latest products and services from over 300 exhibitors and hear from industry leaders on key topics and trends through panel discussions\, focused talks\, and Q&As. \nVisitors can also experience a range of tailored networking and social events including the Opening Party\, Happy Hour\, Speed Networking\, Lunch & Learns\, as well as benefiting from the co-located hotel design expo – Hotel & Resort Design South. \nAttending brands include Royal Caribbean\, Norwegian Cruise Line\, Disney Cruise Line\, MSC Cruises\, Carnival\, The Ritz-Carlton Yacht Collection\, Celebrity Cruises\, Virgin Voyages\, and many more. \nHead over to the website to find out how you can get involved. \nCSI Design Expo Americas takes place from 9 – 10 June 2026 at Miami Beach Convention Center\, 1901 Convention Center Drive\, Miami Beach\, FL 33139\, USA.
URL:https://cruisetimes.net/event/csi-design-expo-americas/
LOCATION:Miami Beach Convention Center\, 1901 Convention Center Drive\, Miami beach FL 33139\, FL\, United States
ATTACH;FMTTYPE=image/jpeg:https://cruisetimes.net/wp-content/uploads/2026/01/CSI-USA-Logo-colour-1a.jpg
END:VEVENT
BEGIN:VEVENT
DTSTART;VALUE=DATE:20260601
DTEND;VALUE=DATE:20260606
DTSTAMP:20260422T230816
CREATED:20260117T114803Z
LAST-MODIFIED:20260129T213321Z
UID:13673-1780272000-1780703999@cruisetimes.net
SUMMARY:Posidonia 2026
DESCRIPTION:
URL:https://cruisetimes.net/event/posidonia-2026/
LOCATION:Athens Metropolitan Expo SA\, P.O.Box 80072 -190 19 Spata\, Athens\, Greece
ATTACH;FMTTYPE=image/jpeg:https://cruisetimes.net/wp-content/uploads/2026/01/Posidonia_26_300x250.jpg
ORGANIZER;CN="Posidonia Events":MAILTO:posidonia@posidonia-events.com
END:VEVENT
BEGIN:VEVENT
DTSTART;VALUE=DATE:20260423
DTEND;VALUE=DATE:20260424
DTSTAMP:20260422T230816
CREATED:20260204T094808Z
LAST-MODIFIED:20260204T094808Z
UID:14529-1776902400-1776988799@cruisetimes.net
SUMMARY:5th Ship Voyage Optimisation Summit
DESCRIPTION:Celebrating its 5th anniversary\, the Ship Voyage Optimisation Summit returns with a strengthened focus on the technologies\, strategies\, and innovations shaping the future of ecient and sustainable sailing. As the maritime sector leans toward digitalisation and decarbonization\, voyage optimisation has become a cornerstone for achieving fuel savings\, regulatory compliance\, and safer navigation.
URL:https://cruisetimes.net/event/5th-ship-voyage-optimisation-summit/
LOCATION:Hamburg Marriott Hotel\, ABC-Straße 52\, 20354\, Hamburg\, Germany
ATTACH;FMTTYPE=image/jpeg:https://cruisetimes.net/wp-content/uploads/2026/02/SVO-social-media-banner-a.jpg
ORGANIZER;CN="BS Group":MAILTO:info@bsgroup.uk
END:VEVENT
BEGIN:VEVENT
DTSTART;VALUE=DATE:20260421
DTEND;VALUE=DATE:20260423
DTSTAMP:20260422T230816
CREATED:20260204T095810Z
LAST-MODIFIED:20260204T095810Z
UID:14534-1776729600-1776902399@cruisetimes.net
SUMMARY:Hamburg Maritime Forum
DESCRIPTION:
URL:https://cruisetimes.net/event/hamburg-maritime-forum/
LOCATION:Fischauktionshalle\, Altonaer Fischauktionshalle\, Große Elbstraße 9\, Hamburg\, 22767\, Germany
ATTACH;FMTTYPE=image/jpeg:https://cruisetimes.net/wp-content/uploads/2026/02/WMF468x60.jpg
ORGANIZER;CN="IGGS Group":MAILTO:info@iggs-group.com
END:VEVENT
BEGIN:VEVENT
DTSTART;VALUE=DATE:20260318
DTEND;VALUE=DATE:20260320
DTSTAMP:20260422T230816
CREATED:20260129T163304Z
LAST-MODIFIED:20260129T205213Z
UID:14169-1773792000-1773964799@cruisetimes.net
SUMMARY:Green Marine Transport 2026
DESCRIPTION:The European Conference Green Marine Transport 2026 will take place on 18-19th of March in Amsterdam\, bringing together key decision-makers and innovators from across the maritime industry. Over two days\, the conference will unite shipping companies\, port authorities\, policy makers\, leading suppliers\, and technology providers to explore the latest developments\, challenges\, and opportunities in sustainable shipping. \nThe push towards green marine transport is accelerating across Europe. From LNG\, hydrogen\, and advanced biofuels to cutting-edge vessel designs and propulsion systems\, the industry is embracing technologies that reduce environmental impact without compromising performance. The rapid emergence of electric and hybrid vessels is already reshaping short-sea and inland shipping\, opening new possibilities for low- and zero-emission operations.
URL:https://cruisetimes.net/event/green-marine-transport-2026/
LOCATION:Van der Valk Hotel Amsterdam – Amstel\, Joan Muyskenweg 20\, Amsterdam\, 1096 CJ\, Netherlands
ATTACH;FMTTYPE=image/jpeg:https://cruisetimes.net/wp-content/uploads/2026/01/GreenMarineTransport2026.jpg
END:VEVENT
BEGIN:VEVENT
DTSTART;VALUE=DATE:20260217
DTEND;VALUE=DATE:20260219
DTSTAMP:20260422T230816
CREATED:20260130T140835Z
LAST-MODIFIED:20260130T141458Z
UID:14273-1771286400-1771459199@cruisetimes.net
SUMMARY:World Maritime Forum: Copenhagen
DESCRIPTION:
URL:https://cruisetimes.net/event/world-maritime-forum-copenhagen/
LOCATION:AC Bella Sky Convention Center\, Martha Christensens Vej 10\, Copenhagen\, Denmark
ATTACH;FMTTYPE=image/jpeg:https://cruisetimes.net/wp-content/uploads/2026/01/WorldMaritimeForum.jpg
ORGANIZER;CN="IGGS Group":MAILTO:info@iggs-group.com
END:VEVENT
END:VCALENDAR