BEGIN:VCALENDAR
VERSION:2.0
PRODID:-//CruiseTimes News &amp; Analysis - ECPv6.15.19//NONSGML v1.0//EN
CALSCALE:GREGORIAN
METHOD:PUBLISH
X-WR-CALNAME:CruiseTimes News &amp; Analysis
X-ORIGINAL-URL:https://cruisetimes.net
X-WR-CALDESC:Events for CruiseTimes News &amp; Analysis
REFRESH-INTERVAL;VALUE=DURATION:PT1H
X-Robots-Tag:noindex
X-PUBLISHED-TTL:PT1H
BEGIN:VTIMEZONE
TZID:Europe/Madrid
BEGIN:DAYLIGHT
TZOFFSETFROM:+0100
TZOFFSETTO:+0200
TZNAME:CEST
DTSTART:20250330T010000
END:DAYLIGHT
BEGIN:STANDARD
TZOFFSETFROM:+0200
TZOFFSETTO:+0100
TZNAME:CET
DTSTART:20251026T010000
END:STANDARD
BEGIN:DAYLIGHT
TZOFFSETFROM:+0100
TZOFFSETTO:+0200
TZNAME:CEST
DTSTART:20260329T010000
END:DAYLIGHT
BEGIN:STANDARD
TZOFFSETFROM:+0200
TZOFFSETTO:+0100
TZNAME:CET
DTSTART:20261025T010000
END:STANDARD
BEGIN:DAYLIGHT
TZOFFSETFROM:+0100
TZOFFSETTO:+0200
TZNAME:CEST
DTSTART:20270328T010000
END:DAYLIGHT
BEGIN:STANDARD
TZOFFSETFROM:+0200
TZOFFSETTO:+0100
TZNAME:CET
DTSTART:20271031T010000
END:STANDARD
END:VTIMEZONE
BEGIN:VTIMEZONE
TZID:Europe/Berlin
BEGIN:DAYLIGHT
TZOFFSETFROM:+0100
TZOFFSETTO:+0200
TZNAME:CEST
DTSTART:20250330T010000
END:DAYLIGHT
BEGIN:STANDARD
TZOFFSETFROM:+0200
TZOFFSETTO:+0100
TZNAME:CET
DTSTART:20251026T010000
END:STANDARD
BEGIN:DAYLIGHT
TZOFFSETFROM:+0100
TZOFFSETTO:+0200
TZNAME:CEST
DTSTART:20260329T010000
END:DAYLIGHT
BEGIN:STANDARD
TZOFFSETFROM:+0200
TZOFFSETTO:+0100
TZNAME:CET
DTSTART:20261025T010000
END:STANDARD
BEGIN:DAYLIGHT
TZOFFSETFROM:+0100
TZOFFSETTO:+0200
TZNAME:CEST
DTSTART:20270328T010000
END:DAYLIGHT
BEGIN:STANDARD
TZOFFSETFROM:+0200
TZOFFSETTO:+0100
TZNAME:CET
DTSTART:20271031T010000
END:STANDARD
END:VTIMEZONE
BEGIN:VEVENT
DTSTART;VALUE=DATE:20261110
DTEND;VALUE=DATE:20261112
DTSTAMP:20260422T230627
CREATED:20260204T093341Z
LAST-MODIFIED:20260204T093341Z
UID:14525-1794268800-1794441599@cruisetimes.net
SUMMARY:International Cruise Summit 2026
DESCRIPTION:The International Cruise Summit is dedicated to this dynamic sector and stands out as the leading event of its kind because it serves as a crucial platform for industry leaders\, innovators and stakeholders to collaborate\, share insights\, and shape the future of the cruise industry.
URL:https://cruisetimes.net/event/international-cruise-summit-2026/
LOCATION:MADRID – Hotel Meliá Castilla\, Spain
ATTACH;FMTTYPE=image/jpeg:https://cruisetimes.net/wp-content/uploads/2026/02/Banner-ICS-2026-400-x-300.jpg
END:VEVENT
BEGIN:VEVENT
DTSTART;VALUE=DATE:20261202
DTEND;VALUE=DATE:20261204
DTSTAMP:20260422T230627
CREATED:20260129T161537Z
LAST-MODIFIED:20260129T162053Z
UID:14164-1796169600-1796342399@cruisetimes.net
SUMMARY:CSI Design Expo Europe
DESCRIPTION:Cruise Ship Interiors Design Expo Europe connects the cruise interiors supply chain with Europe’s most esteemed cruise lines\, designers\, and shipyards working on major refurbishment and newbuild projects. Now in its seventh year and hosted in Europe’s maritime hub of innovation\, Hamburg\, Germany\, CSI Europe presents interior design within the cruise industry\, with a focus on the continent’s ocean\, river\, and expedition cruise market. Much more than just a trade show\, the exhibition and conference offers two days of efficient product sourcing\, professional development\, and high-value relationship building. \nAttendees are invited to experience the innovation and creativity of the industry through expertly curated content sessions\, tailored networking events\, and 300+ exhibiting design studios\, outfitters\, and interior suppliers.\nAttending brands include Carnival Cruise Line\, Norwegian Cruise Line\, Viking\, HX\, SMC Cruises\, SMC Design\, Fincantieri\, Meyer Werft\, Partner Ship Design\, Tillberg Design of Sweden\, and more. \nHead over to the website to find out how you can get involved in this one-of-a-kind event. \nCruise Ship Interiors Design Expo Europe 2026 takes place from 2 – 3 December 2026 at Hamburg Messe und Congress\, Messepl. 1\, 20357 Hamburg\, Germany.
URL:https://cruisetimes.net/event/csi-design-expo-europe/
LOCATION:Hamburg Messe + Congress\, Vor dem Holstentor\, Hamburg\, 20357\, Germany
ATTACH;FMTTYPE=image/png:https://cruisetimes.net/wp-content/uploads/2026/01/CSI-Europe-Logo-colour.png
END:VEVENT
END:VCALENDAR